BEGIN:VCALENDAR
VERSION:2.0
PRODID:-//National Council of Teachers of English - ECPv6.15.18//NONSGML v1.0//EN
CALSCALE:GREGORIAN
METHOD:PUBLISH
X-ORIGINAL-URL:https://ncte.org
X-WR-CALDESC:Events for National Council of Teachers of English
REFRESH-INTERVAL;VALUE=DURATION:PT1H
X-Robots-Tag:noindex
X-PUBLISHED-TTL:PT1H
BEGIN:VTIMEZONE
TZID:America/Chicago
BEGIN:DAYLIGHT
TZOFFSETFROM:-0600
TZOFFSETTO:-0500
TZNAME:CDT
DTSTART:20240310T080000
END:DAYLIGHT
BEGIN:STANDARD
TZOFFSETFROM:-0500
TZOFFSETTO:-0600
TZNAME:CST
DTSTART:20241103T070000
END:STANDARD
BEGIN:DAYLIGHT
TZOFFSETFROM:-0600
TZOFFSETTO:-0500
TZNAME:CDT
DTSTART:20250309T080000
END:DAYLIGHT
BEGIN:STANDARD
TZOFFSETFROM:-0500
TZOFFSETTO:-0600
TZNAME:CST
DTSTART:20251102T070000
END:STANDARD
BEGIN:DAYLIGHT
TZOFFSETFROM:-0600
TZOFFSETTO:-0500
TZNAME:CDT
DTSTART:20260308T080000
END:DAYLIGHT
BEGIN:STANDARD
TZOFFSETFROM:-0500
TZOFFSETTO:-0600
TZNAME:CST
DTSTART:20261101T070000
END:STANDARD
END:VTIMEZONE
BEGIN:VTIMEZONE
TZID:America/New_York
BEGIN:DAYLIGHT
TZOFFSETFROM:-0500
TZOFFSETTO:-0400
TZNAME:EDT
DTSTART:20240310T070000
END:DAYLIGHT
BEGIN:STANDARD
TZOFFSETFROM:-0400
TZOFFSETTO:-0500
TZNAME:EST
DTSTART:20241103T060000
END:STANDARD
BEGIN:DAYLIGHT
TZOFFSETFROM:-0500
TZOFFSETTO:-0400
TZNAME:EDT
DTSTART:20250309T070000
END:DAYLIGHT
BEGIN:STANDARD
TZOFFSETFROM:-0400
TZOFFSETTO:-0500
TZNAME:EST
DTSTART:20251102T060000
END:STANDARD
BEGIN:DAYLIGHT
TZOFFSETFROM:-0500
TZOFFSETTO:-0400
TZNAME:EDT
DTSTART:20260308T070000
END:DAYLIGHT
BEGIN:STANDARD
TZOFFSETFROM:-0400
TZOFFSETTO:-0500
TZNAME:EST
DTSTART:20261101T060000
END:STANDARD
END:VTIMEZONE
BEGIN:VEVENT
DTSTART;TZID=America/Chicago:20250301T100000
DTEND;TZID=America/Chicago:20250301T140000
DTSTAMP:20260424T213930
CREATED:20250131T160352Z
LAST-MODIFIED:20250131T160352Z
UID:181017-1740823200-1740837600@ncte.org
SUMMARY:PLYMC African American Read-In
DESCRIPTION:Join us at Main Library on March 1st as we celebrate Black authors and literature. PLYMC is participating in this year’s African American Read-In\, an initiative by the National Council of Teachers of English to make literacy a significant part of Black History Month. \nFrom 10 a.m. – 2 p.m. there will be live readings from works written by African American authors. Come listen\, join in\, or just take the time to read your favorite Black authors or discover new ones. And as always\, we celebrate our freedom to read whatever we choose. \nThere will be light refreshments\, giveaways\, and more. \nNo registration is required and the event is free for all. \n#AARI25
URL:https://ncte.org/calendar/plymc-african-american-read-in/
CATEGORIES:African American Read-In (AARI)
END:VEVENT
BEGIN:VEVENT
DTSTART;TZID=America/New_York:20250301T153000
DTEND;TZID=America/New_York:20250301T173000
DTSTAMP:20260424T213930
CREATED:20250221T121736Z
LAST-MODIFIED:20250221T121736Z
UID:198284-1740843000-1740850200@ncte.org
SUMMARY:"Celebrating Nikki Giovanni in honor of Dr. Stephanie Hassan Richardson"   
DESCRIPTION:“Celebrating Nikki Giovanni in honor of Dr. Stephanie Hassan Richardson”\n\nSaturday\, March 1\n3:30 – 5:30pm (Zoom option available)\nCampus Center Assembly Hall\nUniversity at Albany\, State University of New York\n1400 Washington Ave\, Albany\, NY\n\nPlease join the Program in Writing and Critical Inquiry at the University at Albany\, SUNY\, to celebrate the incredible lives of legendary writer Nikki Giovanni (June 7\, 1943-December 9\, 2024) and UAlbany alum and late Writing and Critical Inquiry director\, Dr. Stephanie Hassan Richardson (June 8\, 1975-October 28\, 2024). This event is headlined by Dr. Hassan Richardson’s family. Dayatra Hassan and Khadijah Jeader will perform an original composition\, Natalie Day Hassan\, Tiffany Tarver\, and Jeenah Alwakeel will read selections from the work of Nikki Giovanni. UAlbany professor Kyra Gaunt will perform a musical homage.\n\nAttendees are invited to participate by reading selections from African American authors on behalf of Giovanni and Hassan Richardson. We will try to accommodate as many speakers as time allows.  Those who are unable to read may submit selections\, which will be collated for family and campus community. For those who wish to participate\, in person or via Zoom\, please RSVP to Allison V. Craig (acraig@albany.edu). In your email\, please share selection and approximate time the selection will take to read (depending on number of participants\, we will try to keep readings/comments to around 3 minutes).
URL:https://ncte.org/calendar/celebrating-nikki-giovanni-in-honor-of-dr-stephanie-hassan-richardson/
CATEGORIES:African American Read-In (AARI)
END:VEVENT
BEGIN:VEVENT
DTSTART;TZID=America/Chicago:20250301T153000
DTEND;TZID=America/Chicago:20250301T173000
DTSTAMP:20260424T213930
CREATED:20250224T122356Z
LAST-MODIFIED:20250224T122356Z
UID:207538-1740843000-1740850200@ncte.org
SUMMARY:Celebrating Nikki Giovanni in Honor of Dr. Stephanie Hassan Richardson
DESCRIPTION:“Celebrating Nikki Giovanni in honor of Dr. Stephanie Hassan Richardson”    \nMarch 1\, 2025 @ 3:30 pm – 5:30 pm \nFree \nSaturday\, March 1\n3:30 – 5:30pm (Zoom option available)\nCampus Center Assembly Hall\nUniversity at Albany\, State University of New York\n1400 Washington Ave\, Albany\, NY \nPlease join the Program in Writing and Critical Inquiry at the University at Albany\, SUNY\, to celebrate the incredible lives of legendary writer Nikki Giovanni (June 7\, 1943-December 9\, 2024) and UAlbany alum and late Writing and Critical Inquiry director\, Dr. Stephanie Hassan Richardson (June 8\, 1975-October 28\, 2024). This event is headlined by Dr. Hassan Richardson’s family. Dayatra Hassan and Khadijah Jeader will perform an original composition\, Natalie Day Hassan\, Tiffany Tarver\, and Jeenah Alwakeel will read selections from the work of Nikki Giovanni. UAlbany professor Kyra Gaunt will perform a musical homage. \nAttendees are invited to participate by reading selections from African American authors on behalf of Giovanni and Hassan Richardson. We will try to accommodate as many speakers as time allows.  Those who are unable to read may submit selections\, which will be collated for family and campus community. \nFor those who wish to participate\, in person or via Zoom\, please register at https://forms.office.com/r/UNh3eV7rdL and/or email Allison V. Craig (acraig@albany.edu). In your registration/email\, please share selection and approximate time the selection will take to read (depending on number of participants\, we will try to keep readings/comments to around 3 minutes).
URL:https://ncte.org/calendar/celebrating-nikki-giovanni-in-honor-of-dr-stephanie-hassan-richardson-2/
LOCATION:UAlbany\, State University of New York\, 1400 Washington Avenue\, Albany\, N\, 12222\, United States
CATEGORIES:African American Read-In (AARI)
ATTACH;FMTTYPE=image/png:/wp-content/uploads/QRCode-for-NCTE-AARI_-Celebrating-Nikki-Giovanni-in-Honor-of-Dr.-Stephanie-Hassan-Richardson-e1740403415502.png
END:VEVENT
BEGIN:VEVENT
DTSTART;TZID=America/Chicago:20250303T093000
DTEND;TZID=America/Chicago:20250303T123000
DTSTAMP:20260424T213930
CREATED:20250226T200149Z
LAST-MODIFIED:20250226T200149Z
UID:217095-1740994200-1741005000@ncte.org
SUMMARY:African American Read In
DESCRIPTION:African American students in my 6th grade English classes will read aloud from a selection of NCTE booklist books to the class on Monday\, 3/3/25. Afterwards all students in class will have opportunities to read from other selected books about African American characters/people or read their own favorite books.
URL:https://ncte.org/calendar/african-american-read-in-10/
LOCATION:21717 Talisman St\, Torrance\, CA 90503\, 21717 Talisman St\, Torrance\, C\, 90501\, United States
CATEGORIES:African American Read-In (AARI)
ORGANIZER;CN="Wendy Sweet":MAILTO:sweet.wendy@tusd.org
END:VEVENT
BEGIN:VEVENT
DTSTART;TZID=America/Chicago:20250303T100000
DTEND;TZID=America/Chicago:20250303T110000
DTSTAMP:20260424T213930
CREATED:20250307T115939Z
LAST-MODIFIED:20250307T115939Z
UID:247540-1740996000-1740999600@ncte.org
SUMMARY:Rose Hill Magnolia Read Aloud
DESCRIPTION:I read to a class of 6th graders at Rose Hill magnolia. I read the book ” Let It Shine ” by Ashley Bryan. I was able to put the book on the smart board so it would be bigger and better as I read it out to the students. I had an amazing time and definitely wouldn’t mind going back. The students were well respectful and engaged.
URL:https://ncte.org/calendar/rose-hill-magnolia-read-aloud/
LOCATION:rose hill magnolia\, 1329 Brooks Quinn Rd.\, Rose Hill\, NC\, 28458
CATEGORIES:African American Read-In (AARI)
ATTACH;FMTTYPE=image/jpeg:/wp-content/uploads/image000000-e1741352370930.jpeg
ORGANIZER;CN="Fayetteville State University English Department":MAILTO:cweatherford@uncfsu.edu
END:VEVENT
BEGIN:VEVENT
DTSTART;TZID=America/Chicago:20250304T113000
DTEND;TZID=America/Chicago:20250304T123000
DTSTAMP:20260424T213930
CREATED:20250218T174116Z
LAST-MODIFIED:20250218T174116Z
UID:193718-1741087800-1741091400@ncte.org
SUMMARY:ECTC African American Read-In - Weather Reschedule
DESCRIPTION:The National African American Read-In (AARI) is a groundbreaking effort to encourage\ncommunities to read together\, centering on African American books and authors. It was\nestablished in 1990 by the Black Caucus of the National Council of Teachers of English to make\nliteracy a significant part of Black History Month. This initiative has reached more than 6 million\nparticipants around the world. Students\, faculty\, and staff are welcome to join us and read\npieces from African American authors\, or you can simply come and listen.
URL:https://ncte.org/calendar/ectc-african-american-read-in-weather-reschedule/
CATEGORIES:African American Read-In (AARI)
END:VEVENT
BEGIN:VEVENT
DTSTART;TZID=America/Chicago:20250307T133000
DTEND;TZID=America/Chicago:20250307T140000
DTSTAMP:20260424T213930
CREATED:20250307T205732Z
LAST-MODIFIED:20250307T205732Z
UID:249751-1741354200-1741356000@ncte.org
SUMMARY:Read Aloud
DESCRIPTION:Read Aloud-I read Hip-Hop Speaks to Children to my kindergarten class of 16 kids today after PE as a cool down activity and we discussed rhyming words and some of their favorite hiphop songs
URL:https://ncte.org/calendar/read-aloud/
CATEGORIES:African American Read-In (AARI)
ATTACH;FMTTYPE=image/jpeg:/wp-content/uploads/hip.jpeg
END:VEVENT
END:VCALENDAR