BEGIN:VCALENDAR
VERSION:2.0
PRODID:-//National Council of Teachers of English - ECPv6.15.18//NONSGML v1.0//EN
CALSCALE:GREGORIAN
METHOD:PUBLISH
X-WR-CALNAME:National Council of Teachers of English
X-ORIGINAL-URL:https://ncte.org
X-WR-CALDESC:Events for National Council of Teachers of English
REFRESH-INTERVAL;VALUE=DURATION:PT1H
X-Robots-Tag:noindex
X-PUBLISHED-TTL:PT1H
BEGIN:VTIMEZONE
TZID:America/Chicago
BEGIN:DAYLIGHT
TZOFFSETFROM:-0600
TZOFFSETTO:-0500
TZNAME:CDT
DTSTART:20230312T080000
END:DAYLIGHT
BEGIN:STANDARD
TZOFFSETFROM:-0500
TZOFFSETTO:-0600
TZNAME:CST
DTSTART:20231105T070000
END:STANDARD
BEGIN:DAYLIGHT
TZOFFSETFROM:-0600
TZOFFSETTO:-0500
TZNAME:CDT
DTSTART:20240310T080000
END:DAYLIGHT
BEGIN:STANDARD
TZOFFSETFROM:-0500
TZOFFSETTO:-0600
TZNAME:CST
DTSTART:20241103T070000
END:STANDARD
BEGIN:DAYLIGHT
TZOFFSETFROM:-0600
TZOFFSETTO:-0500
TZNAME:CDT
DTSTART:20250309T080000
END:DAYLIGHT
BEGIN:STANDARD
TZOFFSETFROM:-0500
TZOFFSETTO:-0600
TZNAME:CST
DTSTART:20251102T070000
END:STANDARD
END:VTIMEZONE
BEGIN:VEVENT
DTSTART;TZID=America/Chicago:20240212T170000
DTEND;TZID=America/Chicago:20240212T190000
DTSTAMP:20260422T061156
CREATED:20240131T121834Z
LAST-MODIFIED:20240131T121834Z
UID:130155-1707757200-1707764400@ncte.org
SUMMARY:Sumner Hall African American Read-in
DESCRIPTION:An intergenerational community celebration of African American authors
URL:https://ncte.org/calendar/sumner-hall-african-american-read-in/
LOCATION:Sumner Hall\, 206 S. Queen Street\, Chestertown\, MD\, 21620\, United States
CATEGORIES:African American Read-In (AARI)
ATTACH;FMTTYPE=image/png:/wp-content/uploads/202402Flier_AfricanAmericanReadIn-e1706707027197.png
END:VEVENT
END:VCALENDAR