BEGIN:VCALENDAR
VERSION:2.0
PRODID:-//National Council of Teachers of English - ECPv6.15.18//NONSGML v1.0//EN
CALSCALE:GREGORIAN
METHOD:PUBLISH
X-ORIGINAL-URL:https://ncte.org
X-WR-CALDESC:Events for National Council of Teachers of English
REFRESH-INTERVAL;VALUE=DURATION:PT1H
X-Robots-Tag:noindex
X-PUBLISHED-TTL:PT1H
BEGIN:VTIMEZONE
TZID:America/Chicago
BEGIN:DAYLIGHT
TZOFFSETFROM:-0600
TZOFFSETTO:-0500
TZNAME:CDT
DTSTART:20240310T080000
END:DAYLIGHT
BEGIN:STANDARD
TZOFFSETFROM:-0500
TZOFFSETTO:-0600
TZNAME:CST
DTSTART:20241103T070000
END:STANDARD
BEGIN:DAYLIGHT
TZOFFSETFROM:-0600
TZOFFSETTO:-0500
TZNAME:CDT
DTSTART:20250309T080000
END:DAYLIGHT
BEGIN:STANDARD
TZOFFSETFROM:-0500
TZOFFSETTO:-0600
TZNAME:CST
DTSTART:20251102T070000
END:STANDARD
BEGIN:DAYLIGHT
TZOFFSETFROM:-0600
TZOFFSETTO:-0500
TZNAME:CDT
DTSTART:20260308T080000
END:DAYLIGHT
BEGIN:STANDARD
TZOFFSETFROM:-0500
TZOFFSETTO:-0600
TZNAME:CST
DTSTART:20261101T070000
END:STANDARD
END:VTIMEZONE
BEGIN:VTIMEZONE
TZID:America/New_York
BEGIN:DAYLIGHT
TZOFFSETFROM:-0500
TZOFFSETTO:-0400
TZNAME:EDT
DTSTART:20240310T070000
END:DAYLIGHT
BEGIN:STANDARD
TZOFFSETFROM:-0400
TZOFFSETTO:-0500
TZNAME:EST
DTSTART:20241103T060000
END:STANDARD
BEGIN:DAYLIGHT
TZOFFSETFROM:-0500
TZOFFSETTO:-0400
TZNAME:EDT
DTSTART:20250309T070000
END:DAYLIGHT
BEGIN:STANDARD
TZOFFSETFROM:-0400
TZOFFSETTO:-0500
TZNAME:EST
DTSTART:20251102T060000
END:STANDARD
BEGIN:DAYLIGHT
TZOFFSETFROM:-0500
TZOFFSETTO:-0400
TZNAME:EDT
DTSTART:20260308T070000
END:DAYLIGHT
BEGIN:STANDARD
TZOFFSETFROM:-0400
TZOFFSETTO:-0500
TZNAME:EST
DTSTART:20261101T060000
END:STANDARD
END:VTIMEZONE
BEGIN:VEVENT
DTSTART;TZID=America/Chicago:20250201T160000
DTEND;TZID=America/Chicago:20250201T170000
DTSTAMP:20260424T235016
CREATED:20240306T120927Z
LAST-MODIFIED:20240306T120927Z
UID:133923-1738425600-1738429200@ncte.org
SUMMARY:Black History Month Read Aloud
DESCRIPTION:This event is affiliated with the Fayetteville State University English Department. In honor of black history month we want to celebrate by reading books that honor black authors. The books that will be read in this event include Hip Hop Speaks to Children edited by Nikki Giovanni\, Weary Blue by Langston Hughes\, Walk Together Children: African American Spirituals by Ashley Bryan\, and etc. This will hopefully teach children about these wonderful authors.
URL:https://ncte.org/calendar/black-history-month-read-aloud/
CATEGORIES:African American Read-In (AARI)
ATTACH;FMTTYPE=image/jpeg:/wp-content/uploads/Kids-Books-for-Black-History-Month-e1709730563132.jpg
END:VEVENT
BEGIN:VEVENT
DTSTART;TZID=America/Chicago:20250201T160000
DTEND;TZID=America/Chicago:20250201T170000
DTSTAMP:20260424T235016
CREATED:20240306T121100Z
LAST-MODIFIED:20240306T121100Z
UID:133943-1738425600-1738429200@ncte.org
SUMMARY:Black History Month Read Aloud
DESCRIPTION:This event is affiliated with the Fayetteville State University English Department. In honor of black history month we want to celebrate by reading books that honor black authors. The books that will be read in this event include Hip Hop Speaks to Children edited by Nikki Giovanni\, Weary Blue by Langston Hughes\, Walk Together Children: African American Spirituals by Ashley Bryan\, and etc. This will hopefully teach children about these wonderful authors.
URL:https://ncte.org/calendar/black-history-month-read-aloud-2/
LOCATION:fayettevillestateuniversity\, 1200 Murchison Rd\, Fayetteville\, NC 28301\, Fayetteville\, NC\, 28301-4252\, United States
CATEGORIES:African American Read-In (AARI)
ATTACH;FMTTYPE=image/jpeg:/wp-content/uploads/Kids-Books-for-Black-History-Month-1-e1709730554916.jpg
ORGANIZER;CN="Fayetteville State University English Department":MAILTO:cweatherford@uncfsu.edu
END:VEVENT
BEGIN:VEVENT
DTSTART;TZID=America/New_York:20250204T180000
DTEND;TZID=America/New_York:20250204T193000
DTSTAMP:20260424T235016
CREATED:20250128T121328Z
LAST-MODIFIED:20250128T121328Z
UID:178353-1738692000-1738697400@ncte.org
SUMMARY:Conversation with author/historian Kalela Williams
DESCRIPTION:LibeRated YA book club meets quarterly to discuss powerful YA stories that celebrate diversity\, tackle bold themes\, and empower us to think critically about the world and ourselves. We host in-person author events where you can meet the minds behind the stories and ask your burning questions. Youth participants will receive a free\, signed copy of the book! We will host historian and debut author or Tangleroot Kalela Williams.
URL:https://ncte.org/calendar/conversation-with-author-historian-kalela-williams/
LOCATION:Liberation is Lit\, 2524 Forest Drive\, Columbia\, S\, United States
CATEGORIES:African American Read-In (AARI)
ATTACH;FMTTYPE=image/png:/wp-content/uploads/Tangleroot-Flyer-e1738069998582.png
ORGANIZER;CN="Liberation is Lit":MAILTO:info@liberationislit.com
END:VEVENT
END:VCALENDAR